BEGIN:VCALENDAR
PRODID:-//IONAS//TVM//DE
VERSION:2.0
CALSCALE:GREGORIAN
BEGIN:VTIMEZONE
TZID:Europe/Berlin
LAST-MODIFIED:20201010T011803Z
TZURL:http://tzurl.org/zoneinfo/Europe/Berlin
X-LIC-LOCATION:Europe/Berlin
X-PROLEPTIC-TZNAME:LMT
BEGIN:STANDARD
TZNAME:CET
TZOFFSETFROM:+005328
TZOFFSETTO:+0100
DTSTART:18930401T000000
END:STANDARD
BEGIN:DAYLIGHT
TZNAME:CEST
TZOFFSETFROM:+0100
TZOFFSETTO:+0200
DTSTART:19160430T230000
RDATE:19400401T020000
RDATE:19430329T020000
RDATE:19460414T020000
RDATE:19470406T030000
RDATE:19480418T020000
RDATE:19490410T020000
RDATE:19800406T020000
END:DAYLIGHT
BEGIN:STANDARD
TZNAME:CET
TZOFFSETFROM:+0200
TZOFFSETTO:+0100
DTSTART:19161001T010000
RDATE:19421102T030000
RDATE:19431004T030000
RDATE:19441002T030000
RDATE:19451118T030000
RDATE:19461007T030000
END:STANDARD
BEGIN:DAYLIGHT
TZNAME:CEST
TZOFFSETFROM:+0100
TZOFFSETTO:+0200
DTSTART:19170416T020000
RRULE:FREQ=YEARLY;UNTIL=19180415T010000Z;BYMONTH=4;BYDAY=3MO
END:DAYLIGHT
BEGIN:STANDARD
TZNAME:CET
TZOFFSETFROM:+0200
TZOFFSETTO:+0100
DTSTART:19170917T030000
RRULE:FREQ=YEARLY;UNTIL=19180916T010000Z;BYMONTH=9;BYDAY=3MO
END:STANDARD
BEGIN:DAYLIGHT
TZNAME:CEST
TZOFFSETFROM:+0100
TZOFFSETTO:+0200
DTSTART:19440403T020000
RRULE:FREQ=YEARLY;UNTIL=19450402T010000Z;BYMONTH=4;BYDAY=1MO
END:DAYLIGHT
BEGIN:DAYLIGHT
TZNAME:CEMT
TZOFFSETFROM:+0200
TZOFFSETTO:+0300
DTSTART:19450524T020000
RDATE:19470511T030000
END:DAYLIGHT
BEGIN:DAYLIGHT
TZNAME:CEST
TZOFFSETFROM:+0300
TZOFFSETTO:+0200
DTSTART:19450924T030000
RDATE:19470629T030000
END:DAYLIGHT
BEGIN:STANDARD
TZNAME:CET
TZOFFSETFROM:+0100
TZOFFSETTO:+0100
DTSTART:19460101T000000
RDATE:19800101T000000
END:STANDARD
BEGIN:STANDARD
TZNAME:CET
TZOFFSETFROM:+0200
TZOFFSETTO:+0100
DTSTART:19471005T030000
RRULE:FREQ=YEARLY;UNTIL=19491002T010000Z;BYMONTH=10;BYDAY=1SU
END:STANDARD
BEGIN:STANDARD
TZNAME:CET
TZOFFSETFROM:+0200
TZOFFSETTO:+0100
DTSTART:19800928T030000
RRULE:FREQ=YEARLY;UNTIL=19950924T010000Z;BYMONTH=9;BYDAY=-1SU
END:STANDARD
BEGIN:DAYLIGHT
TZNAME:CEST
TZOFFSETFROM:+0100
TZOFFSETTO:+0200
DTSTART:19810329T020000
RRULE:FREQ=YEARLY;BYMONTH=3;BYDAY=-1SU
END:DAYLIGHT
BEGIN:STANDARD
TZNAME:CET
TZOFFSETFROM:+0200
TZOFFSETTO:+0100
DTSTART:19961027T030000
RRULE:FREQ=YEARLY;BYMONTH=10;BYDAY=-1SU
END:STANDARD
END:VTIMEZONE
BEGIN:VEVENT
DTSTAMP:20260425T151521Z
DTSTART;TZID=Europe/Berlin:20260425T180000
DTEND;TZID=Europe/Berlin:20260425T200000
SUMMARY:Kinderdisco - von 8 -13 Jahren
CREATED:20260205T142754Z
LAST-MODIFIED:20260205T142754Z
DESCRIPTION:Kinderdisco\nFür alle Kinder von 8 -13 Jahren.\nEs gibt Geträ
 nke\, gute Musik und viel Spaß!\nEintritt frei\, Spenden willkommen!\nAn
 meldung bis zum 07.03.26 per Email an: info@naturfreunde-egelsbach-erzha
 usen.de\nBitte bei der Anmeldung eine Telefonnummer angeben.
LOCATION:Naturfreundehaus Waldheim
X-LOCATION-NAME:Naturfreundehaus Waldheim
X-STREET-ADDRESS:Hans-Fleißner-Straße 85
X-POSTAL-CODE:63329
X-LOCALITY:Egelsbach
ORGANIZER;CN=NaturFreunde Egelsbach-Erzhausen:mailto:info@naturfreunde-eg
 elsbach-erzhausen.de
X-ORGANIZER-NAME:NaturFreunde Egelsbach-Erzhausen
X-ORGANIZER-EMAIL:info@naturfreunde-egelsbach-erzhausen.de
X-ORGANIZER-WEBSITE:https://www.naturfreunde-egelsbach-erzhausen.de/
X-ORGANIZER-ADDRESS-POSTALCODE:63329
X-ORGANIZER-ADDRESS-LOCALITY:Egelsbach
X-ORGANIZER-ADDRESS-STREET:Hans-Fleißner-Straße 85
X-IONAS-CATEGORY:Familie & Kinder
CATEGORIES:Familie & Kinder
ATTACH;FMTTYPE=image/jpeg:https://www.egelsbach.de/kalender/veranstaltung
 en/2026/april/2026-04-25-kinderdisco-von-8-13-jahren/kinderdisco-2026-2-
 flach.jpg?cid=3j4.1017
UID:aea6f326-5444-44fd-8f20-ea82ad2a8c9b:2026-04-25
X-PRICE:Keine Angabe
END:VEVENT
END:VCALENDAR
