BEGIN:VCALENDAR
PRODID:-//IONAS//TVM//DE
VERSION:2.0
CALSCALE:GREGORIAN
BEGIN:VTIMEZONE
TZID:Europe/Berlin
LAST-MODIFIED:20201010T011803Z
TZURL:http://tzurl.org/zoneinfo/Europe/Berlin
X-LIC-LOCATION:Europe/Berlin
X-PROLEPTIC-TZNAME:LMT
BEGIN:STANDARD
TZNAME:CET
TZOFFSETFROM:+005328
TZOFFSETTO:+0100
DTSTART:18930401T000000
END:STANDARD
BEGIN:DAYLIGHT
TZNAME:CEST
TZOFFSETFROM:+0100
TZOFFSETTO:+0200
DTSTART:19160430T230000
RDATE:19400401T020000
RDATE:19430329T020000
RDATE:19460414T020000
RDATE:19470406T030000
RDATE:19480418T020000
RDATE:19490410T020000
RDATE:19800406T020000
END:DAYLIGHT
BEGIN:STANDARD
TZNAME:CET
TZOFFSETFROM:+0200
TZOFFSETTO:+0100
DTSTART:19161001T010000
RDATE:19421102T030000
RDATE:19431004T030000
RDATE:19441002T030000
RDATE:19451118T030000
RDATE:19461007T030000
END:STANDARD
BEGIN:DAYLIGHT
TZNAME:CEST
TZOFFSETFROM:+0100
TZOFFSETTO:+0200
DTSTART:19170416T020000
RRULE:FREQ=YEARLY;UNTIL=19180415T010000Z;BYMONTH=4;BYDAY=3MO
END:DAYLIGHT
BEGIN:STANDARD
TZNAME:CET
TZOFFSETFROM:+0200
TZOFFSETTO:+0100
DTSTART:19170917T030000
RRULE:FREQ=YEARLY;UNTIL=19180916T010000Z;BYMONTH=9;BYDAY=3MO
END:STANDARD
BEGIN:DAYLIGHT
TZNAME:CEST
TZOFFSETFROM:+0100
TZOFFSETTO:+0200
DTSTART:19440403T020000
RRULE:FREQ=YEARLY;UNTIL=19450402T010000Z;BYMONTH=4;BYDAY=1MO
END:DAYLIGHT
BEGIN:DAYLIGHT
TZNAME:CEMT
TZOFFSETFROM:+0200
TZOFFSETTO:+0300
DTSTART:19450524T020000
RDATE:19470511T030000
END:DAYLIGHT
BEGIN:DAYLIGHT
TZNAME:CEST
TZOFFSETFROM:+0300
TZOFFSETTO:+0200
DTSTART:19450924T030000
RDATE:19470629T030000
END:DAYLIGHT
BEGIN:STANDARD
TZNAME:CET
TZOFFSETFROM:+0100
TZOFFSETTO:+0100
DTSTART:19460101T000000
RDATE:19800101T000000
END:STANDARD
BEGIN:STANDARD
TZNAME:CET
TZOFFSETFROM:+0200
TZOFFSETTO:+0100
DTSTART:19471005T030000
RRULE:FREQ=YEARLY;UNTIL=19491002T010000Z;BYMONTH=10;BYDAY=1SU
END:STANDARD
BEGIN:STANDARD
TZNAME:CET
TZOFFSETFROM:+0200
TZOFFSETTO:+0100
DTSTART:19800928T030000
RRULE:FREQ=YEARLY;UNTIL=19950924T010000Z;BYMONTH=9;BYDAY=-1SU
END:STANDARD
BEGIN:DAYLIGHT
TZNAME:CEST
TZOFFSETFROM:+0100
TZOFFSETTO:+0200
DTSTART:19810329T020000
RRULE:FREQ=YEARLY;BYMONTH=3;BYDAY=-1SU
END:DAYLIGHT
BEGIN:STANDARD
TZNAME:CET
TZOFFSETFROM:+0200
TZOFFSETTO:+0100
DTSTART:19961027T030000
RRULE:FREQ=YEARLY;BYMONTH=10;BYDAY=-1SU
END:STANDARD
END:VTIMEZONE
BEGIN:VEVENT
DTSTAMP:20260421T131632Z
DTSTART;TZID=Europe/Berlin:20260425T133000
DTEND;TZID=Europe/Berlin:20260425T160000
SUMMARY:Kinder und Jugendbasar
CREATED:20260411T070301Z
LAST-MODIFIED:20260413T131731Z
DESCRIPTION:Kommt vorbei und entdeckt tolle Schätze für die ganze Familie
 ! Bei unserem liebevoll vorsortiertem Flohmarkt in Egelsbach erwartet eu
 ch eine große Auswahl an:\n\n- Kinderkleidung bis Größe 176\n- Umstandsm
 ode\n- Spielzeug für jedes Alter\n- Bücher\n- Großteile & vieles mehr\n\
 nAlles ist übersichtlich sortiert – so macht Stöbern richtig Spaß!\n\nSi
 chtbar Schwangere haben bereits um 13 Uhr Einlass.\n\nFür das leibliche 
 Wohl ist natürlich auch gesorgt: Freut euch auf leckeren\, selbstgebacke
 nen Kuchen und frische Waffeln.\n\nBei schönen Wetter gibt es auf dem Au
 ßengelände eine Hüpfburg!
LOCATION:Bürgerhaus Egelsbach
X-LOCATION-NAME:Bürgerhaus Egelsbach
X-STREET-ADDRESS:Kirchstr. 21
X-POSTAL-CODE:63329
X-LOCALITY:Egelsbach
GEO:49.96682587099837;8.666372895240785
X-ORGANIZER-NAME:Egelsbacher Basare
X-IONAS-CATEGORY:Familie & Kinder
CATEGORIES:Familie & Kinder,Flohmarkt
ATTACH;FMTTYPE=image/jpeg;X-COPYRIGHT=meineresterampe/Pixabay:https://www
 .egelsbach.de/kalender/veranstaltungen/2026/april/2026-04-25-kinder-und-
 jugendbasar/meineresterampe-clothes-3697374-1280.jpg?cid=3o2.12ho
UID:1eb5bb5a-7ae4-43a6-9e2f-600e532cb2e7:2026-04-25
END:VEVENT
END:VCALENDAR
