BEGIN:VCALENDAR
PRODID:-//IONAS//TVM//DE
VERSION:2.0
CALSCALE:GREGORIAN
BEGIN:VTIMEZONE
TZID:Europe/Berlin
LAST-MODIFIED:20201010T011803Z
TZURL:http://tzurl.org/zoneinfo/Europe/Berlin
X-LIC-LOCATION:Europe/Berlin
X-PROLEPTIC-TZNAME:LMT
BEGIN:STANDARD
TZNAME:CET
TZOFFSETFROM:+005328
TZOFFSETTO:+0100
DTSTART:18930401T000000
END:STANDARD
BEGIN:DAYLIGHT
TZNAME:CEST
TZOFFSETFROM:+0100
TZOFFSETTO:+0200
DTSTART:19160430T230000
RDATE:19400401T020000
RDATE:19430329T020000
RDATE:19460414T020000
RDATE:19470406T030000
RDATE:19480418T020000
RDATE:19490410T020000
RDATE:19800406T020000
END:DAYLIGHT
BEGIN:STANDARD
TZNAME:CET
TZOFFSETFROM:+0200
TZOFFSETTO:+0100
DTSTART:19161001T010000
RDATE:19421102T030000
RDATE:19431004T030000
RDATE:19441002T030000
RDATE:19451118T030000
RDATE:19461007T030000
END:STANDARD
BEGIN:DAYLIGHT
TZNAME:CEST
TZOFFSETFROM:+0100
TZOFFSETTO:+0200
DTSTART:19170416T020000
RRULE:FREQ=YEARLY;UNTIL=19180415T010000Z;BYMONTH=4;BYDAY=3MO
END:DAYLIGHT
BEGIN:STANDARD
TZNAME:CET
TZOFFSETFROM:+0200
TZOFFSETTO:+0100
DTSTART:19170917T030000
RRULE:FREQ=YEARLY;UNTIL=19180916T010000Z;BYMONTH=9;BYDAY=3MO
END:STANDARD
BEGIN:DAYLIGHT
TZNAME:CEST
TZOFFSETFROM:+0100
TZOFFSETTO:+0200
DTSTART:19440403T020000
RRULE:FREQ=YEARLY;UNTIL=19450402T010000Z;BYMONTH=4;BYDAY=1MO
END:DAYLIGHT
BEGIN:DAYLIGHT
TZNAME:CEMT
TZOFFSETFROM:+0200
TZOFFSETTO:+0300
DTSTART:19450524T020000
RDATE:19470511T030000
END:DAYLIGHT
BEGIN:DAYLIGHT
TZNAME:CEST
TZOFFSETFROM:+0300
TZOFFSETTO:+0200
DTSTART:19450924T030000
RDATE:19470629T030000
END:DAYLIGHT
BEGIN:STANDARD
TZNAME:CET
TZOFFSETFROM:+0100
TZOFFSETTO:+0100
DTSTART:19460101T000000
RDATE:19800101T000000
END:STANDARD
BEGIN:STANDARD
TZNAME:CET
TZOFFSETFROM:+0200
TZOFFSETTO:+0100
DTSTART:19471005T030000
RRULE:FREQ=YEARLY;UNTIL=19491002T010000Z;BYMONTH=10;BYDAY=1SU
END:STANDARD
BEGIN:STANDARD
TZNAME:CET
TZOFFSETFROM:+0200
TZOFFSETTO:+0100
DTSTART:19800928T030000
RRULE:FREQ=YEARLY;UNTIL=19950924T010000Z;BYMONTH=9;BYDAY=-1SU
END:STANDARD
BEGIN:DAYLIGHT
TZNAME:CEST
TZOFFSETFROM:+0100
TZOFFSETTO:+0200
DTSTART:19810329T020000
RRULE:FREQ=YEARLY;BYMONTH=3;BYDAY=-1SU
END:DAYLIGHT
BEGIN:STANDARD
TZNAME:CET
TZOFFSETFROM:+0200
TZOFFSETTO:+0100
DTSTART:19961027T030000
RRULE:FREQ=YEARLY;BYMONTH=10;BYDAY=-1SU
END:STANDARD
END:VTIMEZONE
BEGIN:VEVENT
DTSTAMP:20260420T032944Z
DTSTART;TZID=Europe/Berlin:20260424T200000
DTEND;TZID=Europe/Berlin:20260424T220000
SUMMARY:Freitag im Waldhaus: Powerfrauen
CREATED:20260408T135954Z
LAST-MODIFIED:20260409T122719Z
DESCRIPTION:Marlene Dietrich und Claire Waldoff – zwei Berühmtheiten der 
 1920er Jahre – waren allein schon vom Erscheinungsbild sehr unterschiedl
 ich: eine Diva\, die Eleganz und Sexappeal ausstrahlte und von „Kopf bis
  Fuß auf Liebe eingestellt“ war\, und eine burschikose\, ulkige Krawalls
 chachtel\, die im Berliner Jargon Hits wie „Nach meine Beene is ja janz 
 Berlin verrückt“ herauskrähte. Dennoch waren sie Freundinnen und Kollegi
 nnen\, die sich gegenseitig kannten\, schätzten und unterstützten. Beide
  kleideten und benahmen sich androgyn\, mit Hosen und Krawatten\, und sc
 herten sich nicht um Konventionen. Die Texte ihrer Lieder waren witzig\,
  melancholisch\, warmherzig\, frech oder auch anzüglich und spiegelten d
 ie ganze Bandbreite menschlicher Gefühle wieder.\n\n\nGabriele Kentrup\,
  Sängerin aus Frankfurt am Main\, interpretiert bekannte und weniger bek
 annte Lieder der beiden außergewöhnlichen Künstlerinnen und erzählt span
 nende Geschichten aus deren Leben. Michael Erhard aus Darmstadt begleite
 t sie am Klavier.\n\n\nEintritt frei – Für einen Imbiss wird gesorgt!\nG
 efördert vom Kulturfonds Frankfurt RheinMain
LOCATION:Naturfreundehaus Waldheim
X-LOCATION-NAME:Naturfreundehaus Waldheim
X-STREET-ADDRESS:Hans-Fleißner-Straße 85
X-POSTAL-CODE:63329
X-LOCALITY:Egelsbach
X-ORGANIZER-NAME:NaturFreunde Egelsbach-Erzhausen
X-ORGANIZER-WEBSITE:https://www.naturfreunde-egelsbach-erzhausen.de/
X-ORGANIZER-ADDRESS-POSTALCODE:63329
X-ORGANIZER-ADDRESS-LOCALITY:Egelsbach
X-ORGANIZER-ADDRESS-STREET:Hans-Fleißner-Straße 85
X-ORGANIZER-GEO:49.96462\;8.641614
X-IONAS-CATEGORY:Kunst & Kultur
CATEGORIES:Kunst & Kultur
ATTACH;FMTTYPE=image/jpeg:https://www.egelsbach.de/kalender/veranstaltung
 en/2026/april/2026-04-24-freitag-im-waldhaus-powerfrauen/fiw-april-2026-
 g.-kentrup-flach.jpg?cid=3o0.12fq
UID:23e8fa81-f219-44a0-819f-58ee9327e151:2026-04-24
END:VEVENT
END:VCALENDAR
