BEGIN:VCALENDAR
PRODID:-//IONAS//TVM//DE
VERSION:2.0
CALSCALE:GREGORIAN
BEGIN:VTIMEZONE
TZID:Europe/Berlin
LAST-MODIFIED:20201010T011803Z
TZURL:http://tzurl.org/zoneinfo/Europe/Berlin
X-LIC-LOCATION:Europe/Berlin
X-PROLEPTIC-TZNAME:LMT
BEGIN:STANDARD
TZNAME:CET
TZOFFSETFROM:+005328
TZOFFSETTO:+0100
DTSTART:18930401T000000
END:STANDARD
BEGIN:DAYLIGHT
TZNAME:CEST
TZOFFSETFROM:+0100
TZOFFSETTO:+0200
DTSTART:19160430T230000
RDATE:19400401T020000
RDATE:19430329T020000
RDATE:19460414T020000
RDATE:19470406T030000
RDATE:19480418T020000
RDATE:19490410T020000
RDATE:19800406T020000
END:DAYLIGHT
BEGIN:STANDARD
TZNAME:CET
TZOFFSETFROM:+0200
TZOFFSETTO:+0100
DTSTART:19161001T010000
RDATE:19421102T030000
RDATE:19431004T030000
RDATE:19441002T030000
RDATE:19451118T030000
RDATE:19461007T030000
END:STANDARD
BEGIN:DAYLIGHT
TZNAME:CEST
TZOFFSETFROM:+0100
TZOFFSETTO:+0200
DTSTART:19170416T020000
RRULE:FREQ=YEARLY;UNTIL=19180415T010000Z;BYMONTH=4;BYDAY=3MO
END:DAYLIGHT
BEGIN:STANDARD
TZNAME:CET
TZOFFSETFROM:+0200
TZOFFSETTO:+0100
DTSTART:19170917T030000
RRULE:FREQ=YEARLY;UNTIL=19180916T010000Z;BYMONTH=9;BYDAY=3MO
END:STANDARD
BEGIN:DAYLIGHT
TZNAME:CEST
TZOFFSETFROM:+0100
TZOFFSETTO:+0200
DTSTART:19440403T020000
RRULE:FREQ=YEARLY;UNTIL=19450402T010000Z;BYMONTH=4;BYDAY=1MO
END:DAYLIGHT
BEGIN:DAYLIGHT
TZNAME:CEMT
TZOFFSETFROM:+0200
TZOFFSETTO:+0300
DTSTART:19450524T020000
RDATE:19470511T030000
END:DAYLIGHT
BEGIN:DAYLIGHT
TZNAME:CEST
TZOFFSETFROM:+0300
TZOFFSETTO:+0200
DTSTART:19450924T030000
RDATE:19470629T030000
END:DAYLIGHT
BEGIN:STANDARD
TZNAME:CET
TZOFFSETFROM:+0100
TZOFFSETTO:+0100
DTSTART:19460101T000000
RDATE:19800101T000000
END:STANDARD
BEGIN:STANDARD
TZNAME:CET
TZOFFSETFROM:+0200
TZOFFSETTO:+0100
DTSTART:19471005T030000
RRULE:FREQ=YEARLY;UNTIL=19491002T010000Z;BYMONTH=10;BYDAY=1SU
END:STANDARD
BEGIN:STANDARD
TZNAME:CET
TZOFFSETFROM:+0200
TZOFFSETTO:+0100
DTSTART:19800928T030000
RRULE:FREQ=YEARLY;UNTIL=19950924T010000Z;BYMONTH=9;BYDAY=-1SU
END:STANDARD
BEGIN:DAYLIGHT
TZNAME:CEST
TZOFFSETFROM:+0100
TZOFFSETTO:+0200
DTSTART:19810329T020000
RRULE:FREQ=YEARLY;BYMONTH=3;BYDAY=-1SU
END:DAYLIGHT
BEGIN:STANDARD
TZNAME:CET
TZOFFSETFROM:+0200
TZOFFSETTO:+0100
DTSTART:19961027T030000
RRULE:FREQ=YEARLY;BYMONTH=10;BYDAY=-1SU
END:STANDARD
END:VTIMEZONE
BEGIN:VEVENT
DTSTAMP:20260421T133139Z
DTSTART;TZID=Europe/Berlin:20260425T090000
DTEND;TZID=Europe/Berlin:20260425T150000
SUMMARY:Schulung für Angehörige von Menschen mit Demenz
CREATED:20260305T090058Z
LAST-MODIFIED:20260305T150136Z
DESCRIPTION:Wenn ein nahestehender Mensch an einer Demenz erkrankt (ist)\
 , ist guter Rat teuer. Viele Fragen wollen gestellt und individuelle Lös
 ungen gefunden werden. Die Belastung für alle Beteiligten ist häufig seh
 r groß.\n\nIn der zwei Termine umfassenden Schulung für Angehörige\, Fre
 unde und Bekannte von an Demenz erkrankten Menschen\, wird es viel Raum 
 für die persönlichen Themen geben. Angefangen von den ursächlichen Erkra
 nkungen einer Demenz\, über Tipps zur Kommunikation\, Wege des persönlic
 hen Ausgleichs\, rechtlichen Fragen und Fragen zur Pflegeversicherung is
 t Zeit zum Austausch mit anderen.\n\nDie zweitägige Schulung wird am Sam
 stag\, 11. April und Samstag\, 25. April jeweils von 09.00 bis 15.00 Uhr
  mit Annett Staab vom Langener Begegnungszentrum Haltestelle im Familien
 zentrum Egelsbach stattfinden.\n\n\n\nDie Teilnehmerzahl ist begrenzt. E
 in Beitrag wird nicht erhoben\, Spenden sind aber erwünscht. Anmeldung e
 rforderlich bei Annett Staab unter 06103 203 923 oder haltestelle@langen
 .de.
LOCATION:Zentrum im Brühl (ZIB)
X-LOCATION-NAME:Zentrum im Brühl (ZIB)
X-STREET-ADDRESS:Lutherstraße 7b
X-POSTAL-CODE:63329
X-LOCALITY:Egelsbach
GEO:49.9709436;8.66322
ORGANIZER;CN=Begegnungszentrum Haltestelle:mailto:haltestelle@langen.de
X-ORGANIZER-NAME:Begegnungszentrum Haltestelle
X-ORGANIZER-EMAIL:haltestelle@langen.de
X-ORGANIZER-TELEPHONE:06103 203 920
X-ORGANIZER-ADDRESS-POSTALCODE:63225 
X-ORGANIZER-ADDRESS-LOCALITY:Langen
X-ORGANIZER-ADDRESS-STREET:Elisabethenstr. 59 a
X-ORGANIZER-GEO:49.9973545\;8.6623858
CONTACT:Annett Staab\,haltestelle@langen.de\,06103 203 923
X-CONTACT-GIVEN-NAME:Annett
X-CONTACT-FAMILY-NAME:Staab
X-CONTACT-EMAIL:haltestelle@langen.de
X-CONTACT-TELEPHONE:06103 203 923
X-IONAS-CATEGORY:Senioren
CATEGORIES:Senioren,Seniorenberatung
ATTACH;FMTTYPE=image/jpeg;X-COPYRIGHT=Gerd Altmann/Pixabay:https://www.eg
 elsbach.de/medien/slider/demenz-gerd-altmann-pixabay.jpg?cid=3le.11aj
UID:6452b6b0-1aad-45fa-bcc0-f7025b2757cb:2026-04-25
END:VEVENT
END:VCALENDAR
